BEGIN:VCALENDAR
PRODID:-//event//iCal4j 1.0//EN
CALSCALE:GREGORIAN
BEGIN:VEVENT
DTSTAMP:20260421T205756Z
DTSTART:20230323T170000Z
DTEND:20230323T180000Z
SUMMARY:sample-event-page-2
LOCATION:Register Here https://wcmauthorguide.illinois.gov:443https://art
 -science-festival-2021.physics.illinois.edu/ 
END:VEVENT
END:VCALENDAR
